BEGIN:VCALENDAR
VERSION:2.0
PRODID:-//Leavenworth Washington - ECPv6.15.17//NONSGML v1.0//EN
CALSCALE:GREGORIAN
METHOD:PUBLISH
X-ORIGINAL-URL:https://leavenworth.org
X-WR-CALDESC:Events for Leavenworth Washington
REFRESH-INTERVAL;VALUE=DURATION:PT1H
X-Robots-Tag:noindex
X-PUBLISHED-TTL:PT1H
BEGIN:VTIMEZONE
TZID:America/Los_Angeles
BEGIN:DAYLIGHT
TZOFFSETFROM:-0800
TZOFFSETTO:-0700
TZNAME:PDT
DTSTART:20250309T100000
END:DAYLIGHT
BEGIN:STANDARD
TZOFFSETFROM:-0700
TZOFFSETTO:-0800
TZNAME:PST
DTSTART:20251102T090000
END:STANDARD
BEGIN:DAYLIGHT
TZOFFSETFROM:-0800
TZOFFSETTO:-0700
TZNAME:PDT
DTSTART:20260308T100000
END:DAYLIGHT
BEGIN:STANDARD
TZOFFSETFROM:-0700
TZOFFSETTO:-0800
TZNAME:PST
DTSTART:20261101T090000
END:STANDARD
BEGIN:DAYLIGHT
TZOFFSETFROM:-0800
TZOFFSETTO:-0700
TZNAME:PDT
DTSTART:20270314T100000
END:DAYLIGHT
BEGIN:STANDARD
TZOFFSETFROM:-0700
TZOFFSETTO:-0800
TZNAME:PST
DTSTART:20271107T090000
END:STANDARD
END:VTIMEZONE
BEGIN:VEVENT
DTSTART;TZID=America/Los_Angeles:20260523T100000
DTEND;TZID=America/Los_Angeles:20260523T110000
DTSTAMP:20260423T024825
CREATED:20230630T190515Z
LAST-MODIFIED:20260414T002907Z
UID:10004693-1779530400-1779534000@leavenworth.org
SUMMARY:Resort Yoga For All Levels @ Sleeping Lady Resort
DESCRIPTION:An hour of relaxation\, rejuvenation\, and renewal to start your weekend feeling refreshed and recharged! \nFind your weekend zen with us! Our instructor will base the class on your needs and lead you through a practice to focus on the things you are looking for this week.\nRegistration begins at 9:30am in the resort lobby area where you check-in\, pay and get your card punched. We provide mats\, bolsters\, blocks\, blankets\, and straps but you are welcome to bring your own. $16 for off-site guests and $10 for resort guests\, collect 5 punches on your card and get your 6th class free!
URL:https://leavenworth.org/event/resort-yoga-for-all-levels-sleeping-lady-resort/2026-05-23/
LOCATION:Sleeping Lady Mountain Resort\, PO Box 1060\, Leavenworth\, WA\, 98826\, United States
CATEGORIES:Workshops and Classes
ATTACH;FMTTYPE=image/jpeg:https://leavenworth.org/wp-content/uploads/2023/06/slady.jpg
ORGANIZER;CN="Sleeping Lady Mountain Resort":MAILTO:info@sleepinglady.com
END:VEVENT
BEGIN:VEVENT
DTSTART;TZID=America/Los_Angeles:20260523T110000
DTEND;TZID=America/Los_Angeles:20260523T170000
DTSTAMP:20260423T024825
CREATED:20260227T005537Z
LAST-MODIFIED:20260227T220720Z
UID:10026355-1779534000-1779555600@leavenworth.org
SUMMARY:Turn a Wooden Handle for a Garden Trowel @NCW Woodshop
DESCRIPTION:Grow your woodworking skills with our Garden Trowel Turning Class! Craft a custom wooden handle on the lathe as you learn turning\, shaping\, sanding\, and finishing. In just one hour\, you’ll leave with a handcrafted trowel ready for planting—or gifting to your favorite gardener.
URL:https://leavenworth.org/event/turn-a-wooden-handle-for-a-garden-trowel/2026-05-23/
LOCATION:NCW Woodshop\, 101 Railroad Avenue\, Suite 101A\, Cashmere\, WA\, 98815\, United States
CATEGORIES:Workshops and Classes
ATTACH;FMTTYPE=image/jpeg:https://leavenworth.org/wp-content/uploads/2026/02/NCW-Woodshop-Turn-Garden-Trowel-e1775597777266.jpeg
ORGANIZER;CN="NCW Woodshop":MAILTO:info@ncwwoodshop.com
END:VEVENT
BEGIN:VEVENT
DTSTART;TZID=America/Los_Angeles:20260523T110000
DTEND;TZID=America/Los_Angeles:20260523T170000
DTSTAMP:20260423T024825
CREATED:20260330T212545Z
LAST-MODIFIED:20260330T212545Z
UID:10027048-1779534000-1779555600@leavenworth.org
SUMMARY:Make a Cribbage Board @ NCW Woodshop
DESCRIPTION:Spend a few hours building your own custom cribbage board at NCW Woodshop! Choose hardwood stock\, glue up your board\, drill 120 peg holes\, and learn sanding and finishing skills. Sip\, socialize\, and leave with a handmade board—complete with pegs and ready for game night.
URL:https://leavenworth.org/event/make-a-cribbage-board-ncw-woodshop/2026-05-23/
LOCATION:NCW Woodshop\, 101 Railroad Avenue\, Suite 101A\, Cashmere\, WA\, 98815\, United States
CATEGORIES:Workshops and Classes
ATTACH;FMTTYPE=image/jpeg:https://leavenworth.org/wp-content/uploads/2025/12/Cribbage-Board-NCW-Woodshop.jpg
ORGANIZER;CN="NCW Woodshop":MAILTO:info@ncwwoodshop.com
END:VEVENT
BEGIN:VEVENT
DTSTART;TZID=America/Los_Angeles:20260523T160000
DTEND;TZID=America/Los_Angeles:20260523T180000
DTSTAMP:20260423T024825
CREATED:20260128T222034Z
LAST-MODIFIED:20260128T222034Z
UID:10025283-1779552000-1779559200@leavenworth.org
SUMMARY:Leavenworth International Alphorn Festival
DESCRIPTION:Join the Leavenworth Chamber of Commerce and the Leavenworth Alphorn Association on Memorial Day Weekend as we present the annual Leavenworth International Alphorn Festival in conjunction with the NW Alphorn Workshop. They will be joined by Alphorn players from throughout North America for a weekend of Alphorn concerts and special performances. \nConcert schedule (subject to change): \nSaturday\, May 24 \n4:30 pm – Alphorn procession to the Gazebo\n5:00 pm – Alphorn Concert\, Downtown Gazebo \nSunday\, May 25\n1:00 pm – Alpine Showcase\, Leavenworth Ski Hill\n4:00 pm – Alphorn Concert\, Downtown Gazebo \n  \nThe NW Alphorn Workshop is part of Leavenworth’s annual International Alphorn Festival and includes these highlights:\n \n\nPlayers of all abilities welcome\, with a “Beginners’ Circle” offered.\nProfessional instructional staff\nOpportunities for private lessons by professional players (subject to fee)\nAlphorn Market: opportunity to purchase horns\, mouthpieces and music\nRental horns available (limited number!) \nMany opportunities for public performances.\n\nMore details here: NW Alphorn Workshop
URL:https://leavenworth.org/event/leavenworth-international-alphorn-festival-2026/2026-05-23/
LOCATION:Front Street Park Gazebo\, 820 Front Street\, Leavenworth\, WA\, 98826\, United States
CATEGORIES:Festivals
ATTACH;FMTTYPE=image/jpeg:https://leavenworth.org/wp-content/uploads/2023/08/Alphorn-Celebration-.jpg
ORGANIZER;CN="Leavenworth Alphorns":MAILTO:info@leavenworthalphorns.org
GEO:47.5962326;-120.6614765
X-APPLE-STRUCTURED-LOCATION;VALUE=URI;X-ADDRESS=Front Street Park Gazebo 820 Front Street Leavenworth WA 98826 United States;X-APPLE-RADIUS=500;X-TITLE=820 Front Street:geo:-120.6614765,47.5962326
END:VEVENT
BEGIN:VEVENT
DTSTART;TZID=America/Los_Angeles:20260524T100000
DTEND;TZID=America/Los_Angeles:20260524T150000
DTSTAMP:20260423T024825
CREATED:20260407T161841Z
LAST-MODIFIED:20260407T161841Z
UID:10027510-1779616800-1779634800@leavenworth.org
SUMMARY:Make Your Own Glass Fusing Workshop @ Boulder Bend Glassworks
DESCRIPTION:Design your own glass fusing in a variety of shapes using colorful hand-pulled cane and murrine made at our studio. No plate glass used here! \nCome to the Boulder Bend Glassworks studio and start your fusing workshop anytime between 10 am to 3 pm. No reservations required. Generally\, participants take 40 to 90 minutes to design their glass piece. \nAvailable for ages 7 and up. Participants under 18 require a parent or guardian. \nFor groups of 6 or more\, please inquire regarding a private workshop.
URL:https://leavenworth.org/event/make-your-own-glass-fusing-workshop-boulder-bend-glassworks/2026-05-24/
LOCATION:Boulder Bend Glassworks\, 8210 US Highway 2\, Leavenworth\, WA\, 98826\, United States
CATEGORIES:Arts,Workshops and Classes
ATTACH;FMTTYPE=image/jpeg:https://leavenworth.org/wp-content/uploads/2023/10/fuse.jpg
END:VEVENT
BEGIN:VEVENT
DTSTART;TZID=America/Los_Angeles:20260524T110000
DTEND;TZID=America/Los_Angeles:20260524T170000
DTSTAMP:20260423T024825
CREATED:20260227T005537Z
LAST-MODIFIED:20260227T220720Z
UID:10026356-1779620400-1779642000@leavenworth.org
SUMMARY:Turn a Wooden Handle for a Garden Trowel @NCW Woodshop
DESCRIPTION:Grow your woodworking skills with our Garden Trowel Turning Class! Craft a custom wooden handle on the lathe as you learn turning\, shaping\, sanding\, and finishing. In just one hour\, you’ll leave with a handcrafted trowel ready for planting—or gifting to your favorite gardener.
URL:https://leavenworth.org/event/turn-a-wooden-handle-for-a-garden-trowel/2026-05-24/
LOCATION:NCW Woodshop\, 101 Railroad Avenue\, Suite 101A\, Cashmere\, WA\, 98815\, United States
CATEGORIES:Workshops and Classes
ATTACH;FMTTYPE=image/jpeg:https://leavenworth.org/wp-content/uploads/2026/02/NCW-Woodshop-Turn-Garden-Trowel-e1775597777266.jpeg
ORGANIZER;CN="NCW Woodshop":MAILTO:info@ncwwoodshop.com
END:VEVENT
BEGIN:VEVENT
DTSTART;TZID=America/Los_Angeles:20260524T110000
DTEND;TZID=America/Los_Angeles:20260524T170000
DTSTAMP:20260423T024825
CREATED:20260330T212545Z
LAST-MODIFIED:20260330T212545Z
UID:10027049-1779620400-1779642000@leavenworth.org
SUMMARY:Make a Cribbage Board @ NCW Woodshop
DESCRIPTION:Spend a few hours building your own custom cribbage board at NCW Woodshop! Choose hardwood stock\, glue up your board\, drill 120 peg holes\, and learn sanding and finishing skills. Sip\, socialize\, and leave with a handmade board—complete with pegs and ready for game night.
URL:https://leavenworth.org/event/make-a-cribbage-board-ncw-woodshop/2026-05-24/
LOCATION:NCW Woodshop\, 101 Railroad Avenue\, Suite 101A\, Cashmere\, WA\, 98815\, United States
CATEGORIES:Workshops and Classes
ATTACH;FMTTYPE=image/jpeg:https://leavenworth.org/wp-content/uploads/2025/12/Cribbage-Board-NCW-Woodshop.jpg
ORGANIZER;CN="NCW Woodshop":MAILTO:info@ncwwoodshop.com
END:VEVENT
BEGIN:VEVENT
DTSTART;TZID=America/Los_Angeles:20260524T130000
DTEND;TZID=America/Los_Angeles:20260524T170000
DTSTAMP:20260423T024825
CREATED:20260128T222034Z
LAST-MODIFIED:20260128T222034Z
UID:10025284-1779627600-1779642000@leavenworth.org
SUMMARY:Leavenworth International Alphorn Festival
DESCRIPTION:Join the Leavenworth Chamber of Commerce and the Leavenworth Alphorn Association on Memorial Day Weekend as we present the annual Leavenworth International Alphorn Festival in conjunction with the NW Alphorn Workshop. They will be joined by Alphorn players from throughout North America for a weekend of Alphorn concerts and special performances. \nConcert schedule (subject to change): \nSaturday\, May 24 \n4:30 pm – Alphorn procession to the Gazebo\n5:00 pm – Alphorn Concert\, Downtown Gazebo \nSunday\, May 25\n1:00 pm – Alpine Showcase\, Leavenworth Ski Hill\n4:00 pm – Alphorn Concert\, Downtown Gazebo \n  \nThe NW Alphorn Workshop is part of Leavenworth’s annual International Alphorn Festival and includes these highlights:\n \n\nPlayers of all abilities welcome\, with a “Beginners’ Circle” offered.\nProfessional instructional staff\nOpportunities for private lessons by professional players (subject to fee)\nAlphorn Market: opportunity to purchase horns\, mouthpieces and music\nRental horns available (limited number!) \nMany opportunities for public performances.\n\nMore details here: NW Alphorn Workshop
URL:https://leavenworth.org/event/leavenworth-international-alphorn-festival-2026/2026-05-24/
LOCATION:Front Street Park Gazebo\, 820 Front Street\, Leavenworth\, WA\, 98826\, United States
CATEGORIES:Festivals
ATTACH;FMTTYPE=image/jpeg:https://leavenworth.org/wp-content/uploads/2023/08/Alphorn-Celebration-.jpg
ORGANIZER;CN="Leavenworth Alphorns":MAILTO:info@leavenworthalphorns.org
GEO:47.5962326;-120.6614765
X-APPLE-STRUCTURED-LOCATION;VALUE=URI;X-ADDRESS=Front Street Park Gazebo 820 Front Street Leavenworth WA 98826 United States;X-APPLE-RADIUS=500;X-TITLE=820 Front Street:geo:-120.6614765,47.5962326
END:VEVENT
BEGIN:VEVENT
DTSTART;TZID=America/Los_Angeles:20260525T180000
DTEND;TZID=America/Los_Angeles:20260525T200000
DTSTAMP:20260423T024825
CREATED:20260224T111348Z
LAST-MODIFIED:20260411T164622Z
UID:10026068-1779732000-1779739200@leavenworth.org
SUMMARY:Bingo @ Icicle Brewing Company
DESCRIPTION:Join us every Monday from 6-8pm at our taproom downstairs for Bingo. Free to play\, all ages welcome\, and the winner of every round with gets a gift card!
URL:https://leavenworth.org/event/https-leabingo-icicle-brewing-4-2026-03-02-2/2026-05-25/
LOCATION:Icicle Brewing Company\, 935 Front St\, Leavenworth\, WA\, 98826\, United States
CATEGORIES:Other
ATTACH;FMTTYPE=image/jpeg:https://leavenworth.org/wp-content/uploads/2026/02/Icicle-brewing-2-400x400-1-e1772167854387.jpg
ORGANIZER;CN="Icicle Brewing Company":MAILTO:info@iciclebrewing.com
END:VEVENT
BEGIN:VEVENT
DTSTART;TZID=America/Los_Angeles:20260526T093000
DTEND;TZID=America/Los_Angeles:20260526T170000
DTSTAMP:20260423T024825
CREATED:20260319T204027Z
LAST-MODIFIED:20260319T204027Z
UID:10026968-1779787800-1779814800@leavenworth.org
SUMMARY:Live Glassblowing Demos @ Boulder Bend Glassworks
DESCRIPTION:See firsthand how molten glass is shaped into decorative and functional objects. \nWe invite you to watch off-hand glassblowing demonstrations by Craig and Jori at our studio Boulder Bend Glassworks.
URL:https://leavenworth.org/event/live-glassblowing-demos-boulder-bend-glassworks/2026-05-26/
LOCATION:Boulder Bend Glassworks\, 8210 US Highway 2\, Leavenworth\, WA\, 98826\, United States
CATEGORIES:Arts
ATTACH;FMTTYPE=image/jpeg:https://leavenworth.org/wp-content/uploads/2026/03/boulder-bend-live-glassblowing-fire.jpg
ORGANIZER;CN="Boulder Bend Glassworks":MAILTO:craig.sorensen@gmail.com
END:VEVENT
BEGIN:VEVENT
DTSTART;TZID=America/Los_Angeles:20260528T160000
DTEND;TZID=America/Los_Angeles:20260528T180000
DTSTAMP:20260423T024825
CREATED:20260129T200428Z
LAST-MODIFIED:20260301T163701Z
UID:10025772-1779984000-1779991200@leavenworth.org
SUMMARY:Thursday Game Night @ Leavenworth Adventure Park
DESCRIPTION:Come join us at the park for a fun night of games! We have Connect 4 Frenzy\, Uno Attack\, Chess\, Checkers\, Backgammon\, TacoCatGoatCheesePizza and more! Try out our new Curling attraction and cornhole too! Nothing like putting down the screen and picking up a little real “face time” with your friends and family. All curling and games are free. Coaster rides available until 6pm and are 20% off!
URL:https://leavenworth.org/event/thursday-game-night-leavenworth-adventure-park/2026-05-28/
LOCATION:Leavenworth Adventure Park\, 9342 Icicle Road\, Leavenworth\, WA\, 98826\, United States
CATEGORIES:Music & Entertainment
ATTACH;FMTTYPE=image/jpeg:https://leavenworth.org/wp-content/uploads/2024/04/Lou-Adventure-Park-front-gate-cropped-1.jpg
ORGANIZER;CN="Leavenworth Adventure Park":MAILTO:info@leavenworthadventurepark.com
END:VEVENT
BEGIN:VEVENT
DTSTART;TZID=America/Los_Angeles:20260528T160000
DTEND;TZID=America/Los_Angeles:20260528T200000
DTSTAMP:20260423T024825
CREATED:20260420T163004Z
LAST-MODIFIED:20260420T174343Z
UID:10027660-1779984000-1779998400@leavenworth.org
SUMMARY:Tipsy Trivia @ Stella's!
DESCRIPTION:Bring a friend and a glass of Wine Girl Wines to see if you’re the smartest in the room with our Trivia Night! Trivia starts at 4pm. We’re hosting trivia every fourth Thursday of every month! Prizes will be announced at every Trivia Night! Minimum of 2 people per group for trivia. We can’t wait to see you there!
URL:https://leavenworth.org/event/tipsy-trivia-stellas/2026-05-28/
LOCATION:Stella’s Boutique + Wine Bar\, 217 8th St #11\, Leavenworth\, 98826\, United States
CATEGORIES:Music & Entertainment
ATTACH;FMTTYPE=image/jpeg:https://leavenworth.org/wp-content/uploads/2026/02/641264621_17873319666544661_1812134583119130764_n-e1772739311354.jpg
END:VEVENT
BEGIN:VEVENT
DTSTART;TZID=America/Los_Angeles:20260529T080000
DTEND;TZID=America/Los_Angeles:20260529T220000
DTSTAMP:20260423T024825
CREATED:20260117T211117Z
LAST-MODIFIED:20260117T211117Z
UID:10024720-1780041600-1780092000@leavenworth.org
SUMMARY:Bandits of the Animal Kingdom @ Stein
DESCRIPTION:Come dance with us!
URL:https://leavenworth.org/event/bandits-of-the-animal-kingdom-stein-2/
LOCATION:Stein Leavenworth\, 801 Front St\, Leavenworth\, WA\, 98826\, United States
CATEGORIES:Music & Entertainment,Food & Drink,Kids & Family
ATTACH;FMTTYPE=image/jpeg:https://leavenworth.org/wp-content/uploads/2025/10/Stein-Leavenworth-Corner.jpg
ORGANIZER;CN="Stein Leavenworth":MAILTO:steinleavenworth@gmail.com
END:VEVENT
BEGIN:VEVENT
DTSTART;TZID=America/Los_Angeles:20260529T170000
DTEND;TZID=America/Los_Angeles:20260529T190000
DTSTAMP:20260423T024825
CREATED:20260407T193901Z
LAST-MODIFIED:20260407T193901Z
UID:10027505-1780074000-1780081200@leavenworth.org
SUMMARY:Recycle & Create: Bottle Art Workshop At Neu Flessenow Cellars
DESCRIPTION:Elevate your home decor with a touch of handmade elegance! Join us at Neu Flessenow Cellars for a unique crafting experience led by local talent Gary Hernandez. In this hands-on workshop\, Gary will teach you the delicate art of working with cold porcelain to create stunning\, lifelike flowers.
URL:https://leavenworth.org/event/recycle-create-bottle-art-workshop-at-neu-flessenow-cellars/
LOCATION:Neu Flessenow Cellars\, 50 Sires Ln\, Leavenworth\, 98826\, United States
CATEGORIES:Workshops and Classes
ATTACH;FMTTYPE=image/jpeg:https://leavenworth.org/wp-content/uploads/2025/05/neu-flessenow-cellars-building-close-up.jpg
END:VEVENT
BEGIN:VEVENT
DTSTART;TZID=America/Los_Angeles:20260529T190000
DTEND;TZID=America/Los_Angeles:20260529T210000
DTSTAMP:20260423T024825
CREATED:20260318T165833Z
LAST-MODIFIED:20260416T142213Z
UID:10026634-1780081200-1780088400@leavenworth.org
SUMMARY:Live Music @ Patterson Cellars
DESCRIPTION:Talented local musician bringing lively vibes and familiar tunes to Patterson Cellars!
URL:https://leavenworth.org/event/live-music-patterson-cellars/2026-05-29/
LOCATION:Patterson Cellars\, 933 Front Street\, Suite B\, Leavenworth\, WA\, 98826\, United States
CATEGORIES:Music & Entertainment
ATTACH;FMTTYPE=image/jpeg:https://leavenworth.org/wp-content/uploads/2024/02/patterson-cellars-wine-lineup-.jpg
ORGANIZER;CN="Patterson Cellars":MAILTO:info@pattersoncellars.com
GEO:47.5952108;-120.6607835
X-APPLE-STRUCTURED-LOCATION;VALUE=URI;X-ADDRESS=Patterson Cellars 933 Front Street Suite B Leavenworth WA 98826 United States;X-APPLE-RADIUS=500;X-TITLE=933 Front Street\, Suite B:geo:-120.6607835,47.5952108
END:VEVENT
BEGIN:VEVENT
DTSTART;TZID=America/Los_Angeles:20260530T090000
DTEND;TZID=America/Los_Angeles:20260530T160000
DTSTAMP:20260423T024825
CREATED:20260323T174810Z
LAST-MODIFIED:20260323T174810Z
UID:10026995-1780131600-1780156800@leavenworth.org
SUMMARY:Interactive Glassblowing Experience @ Boulder Bend Glassworks
DESCRIPTION:During this workshop\, you’ll have the opportunity to choose and create your own unique glass piece(s) under the guidance of Craig or Jori. Each participant will enjoy a hands-on experience in the hot shop\, witnessing the transformation of molten glass into a stunning work of art. \nBook multiple sessions and bring friends or family to share in the fun of glassblowing. We offer this interactive experience most Saturdays\, with approximately 60-90 minute sessions for 1-2 participants available throughout the day. The project choices will change every few months with the holidays and seasons. Minimum age 14.
URL:https://leavenworth.org/event/interactive-glassblowing-experience-boulder-bend-glassworks-2/2026-05-30/
LOCATION:Boulder Bend Glassworks\, 8210 US Highway 2\, Leavenworth\, WA\, 98826\, United States
CATEGORIES:Workshops and Classes
ATTACH;FMTTYPE=image/jpeg:https://leavenworth.org/wp-content/uploads/2025/04/BBG_MYO_04-27-25.jpeg
ORGANIZER;CN="Boulder Bend Glassworks":MAILTO:craig.sorensen@gmail.com
END:VEVENT
BEGIN:VEVENT
DTSTART;TZID=America/Los_Angeles:20260530T093000
DTEND;TZID=America/Los_Angeles:20260530T170000
DTSTAMP:20260423T024825
CREATED:20260319T204027Z
LAST-MODIFIED:20260319T204027Z
UID:10026969-1780133400-1780160400@leavenworth.org
SUMMARY:Live Glassblowing Demos @ Boulder Bend Glassworks
DESCRIPTION:See firsthand how molten glass is shaped into decorative and functional objects. \nWe invite you to watch off-hand glassblowing demonstrations by Craig and Jori at our studio Boulder Bend Glassworks.
URL:https://leavenworth.org/event/live-glassblowing-demos-boulder-bend-glassworks/2026-05-30/
LOCATION:Boulder Bend Glassworks\, 8210 US Highway 2\, Leavenworth\, WA\, 98826\, United States
CATEGORIES:Arts
ATTACH;FMTTYPE=image/jpeg:https://leavenworth.org/wp-content/uploads/2026/03/boulder-bend-live-glassblowing-fire.jpg
ORGANIZER;CN="Boulder Bend Glassworks":MAILTO:craig.sorensen@gmail.com
END:VEVENT
BEGIN:VEVENT
DTSTART;TZID=America/Los_Angeles:20260530T100000
DTEND;TZID=America/Los_Angeles:20260530T110000
DTSTAMP:20260423T024825
CREATED:20230630T190515Z
LAST-MODIFIED:20260414T002907Z
UID:10004694-1780135200-1780138800@leavenworth.org
SUMMARY:Resort Yoga For All Levels @ Sleeping Lady Resort
DESCRIPTION:An hour of relaxation\, rejuvenation\, and renewal to start your weekend feeling refreshed and recharged! \nFind your weekend zen with us! Our instructor will base the class on your needs and lead you through a practice to focus on the things you are looking for this week.\nRegistration begins at 9:30am in the resort lobby area where you check-in\, pay and get your card punched. We provide mats\, bolsters\, blocks\, blankets\, and straps but you are welcome to bring your own. $16 for off-site guests and $10 for resort guests\, collect 5 punches on your card and get your 6th class free!
URL:https://leavenworth.org/event/resort-yoga-for-all-levels-sleeping-lady-resort/2026-05-30/
LOCATION:Sleeping Lady Mountain Resort\, PO Box 1060\, Leavenworth\, WA\, 98826\, United States
CATEGORIES:Workshops and Classes
ATTACH;FMTTYPE=image/jpeg:https://leavenworth.org/wp-content/uploads/2023/06/slady.jpg
ORGANIZER;CN="Sleeping Lady Mountain Resort":MAILTO:info@sleepinglady.com
END:VEVENT
BEGIN:VEVENT
DTSTART;TZID=America/Los_Angeles:20260530T110000
DTEND;TZID=America/Los_Angeles:20260530T170000
DTSTAMP:20260423T024825
CREATED:20260227T005537Z
LAST-MODIFIED:20260227T220720Z
UID:10026357-1780138800-1780160400@leavenworth.org
SUMMARY:Turn a Wooden Handle for a Garden Trowel @NCW Woodshop
DESCRIPTION:Grow your woodworking skills with our Garden Trowel Turning Class! Craft a custom wooden handle on the lathe as you learn turning\, shaping\, sanding\, and finishing. In just one hour\, you’ll leave with a handcrafted trowel ready for planting—or gifting to your favorite gardener.
URL:https://leavenworth.org/event/turn-a-wooden-handle-for-a-garden-trowel/2026-05-30/
LOCATION:NCW Woodshop\, 101 Railroad Avenue\, Suite 101A\, Cashmere\, WA\, 98815\, United States
CATEGORIES:Workshops and Classes
ATTACH;FMTTYPE=image/jpeg:https://leavenworth.org/wp-content/uploads/2026/02/NCW-Woodshop-Turn-Garden-Trowel-e1775597777266.jpeg
ORGANIZER;CN="NCW Woodshop":MAILTO:info@ncwwoodshop.com
END:VEVENT
BEGIN:VEVENT
DTSTART;TZID=America/Los_Angeles:20260530T110000
DTEND;TZID=America/Los_Angeles:20260530T170000
DTSTAMP:20260423T024825
CREATED:20260330T212545Z
LAST-MODIFIED:20260330T212545Z
UID:10027050-1780138800-1780160400@leavenworth.org
SUMMARY:Make a Cribbage Board @ NCW Woodshop
DESCRIPTION:Spend a few hours building your own custom cribbage board at NCW Woodshop! Choose hardwood stock\, glue up your board\, drill 120 peg holes\, and learn sanding and finishing skills. Sip\, socialize\, and leave with a handmade board—complete with pegs and ready for game night.
URL:https://leavenworth.org/event/make-a-cribbage-board-ncw-woodshop/2026-05-30/
LOCATION:NCW Woodshop\, 101 Railroad Avenue\, Suite 101A\, Cashmere\, WA\, 98815\, United States
CATEGORIES:Workshops and Classes
ATTACH;FMTTYPE=image/jpeg:https://leavenworth.org/wp-content/uploads/2025/12/Cribbage-Board-NCW-Woodshop.jpg
ORGANIZER;CN="NCW Woodshop":MAILTO:info@ncwwoodshop.com
END:VEVENT
END:VCALENDAR