BEGIN:VCALENDAR
VERSION:2.0
PRODID:-//Leavenworth Washington - ECPv6.15.17//NONSGML v1.0//EN
CALSCALE:GREGORIAN
METHOD:PUBLISH
X-WR-CALNAME:Leavenworth Washington
X-ORIGINAL-URL:https://leavenworth.org
X-WR-CALDESC:Events for Leavenworth Washington
REFRESH-INTERVAL;VALUE=DURATION:PT1H
X-Robots-Tag:noindex
X-PUBLISHED-TTL:PT1H
BEGIN:VTIMEZONE
TZID:America/Los_Angeles
BEGIN:DAYLIGHT
TZOFFSETFROM:-0800
TZOFFSETTO:-0700
TZNAME:PDT
DTSTART:20250309T100000
END:DAYLIGHT
BEGIN:STANDARD
TZOFFSETFROM:-0700
TZOFFSETTO:-0800
TZNAME:PST
DTSTART:20251102T090000
END:STANDARD
BEGIN:DAYLIGHT
TZOFFSETFROM:-0800
TZOFFSETTO:-0700
TZNAME:PDT
DTSTART:20260308T100000
END:DAYLIGHT
BEGIN:STANDARD
TZOFFSETFROM:-0700
TZOFFSETTO:-0800
TZNAME:PST
DTSTART:20261101T090000
END:STANDARD
BEGIN:DAYLIGHT
TZOFFSETFROM:-0800
TZOFFSETTO:-0700
TZNAME:PDT
DTSTART:20270314T100000
END:DAYLIGHT
BEGIN:STANDARD
TZOFFSETFROM:-0700
TZOFFSETTO:-0800
TZNAME:PST
DTSTART:20271107T090000
END:STANDARD
END:VTIMEZONE
BEGIN:VEVENT
DTSTART;TZID=America/Los_Angeles:20260516T090000
DTEND;TZID=America/Los_Angeles:20260516T180000
DTSTAMP:20260423T004758
CREATED:20260417T230449Z
LAST-MODIFIED:20260417T230449Z
UID:10027993-1778922000-1778954400@leavenworth.org
SUMMARY:2026 Bavarian Open
DESCRIPTION:Open to all two-person teams: \n9AM shotgun start both days. \nTwo days of Net Best Ball\, $100\,000 Hole in One Contest – 10 players will earn a shot at the big prize\, $2\,500 Putting Contest. \nContinental breakfast both mornings and a hosted BBQ lunch with the awards ceremony on Sunday.
URL:https://leavenworth.org/event/2026-bavarian-open/2026-05-16/
LOCATION:Leavenworth Golf Club\, 9101 Icicle Rd\, Leavenworth\, WA\, 98826\, United States
CATEGORIES:Other,Outdoors
ATTACH;FMTTYPE=image/jpeg:https://leavenworth.org/wp-content/uploads/2021/06/golf-overview-e1776467028871.jpg
ORGANIZER;CN="Leavenworth Golf Course":MAILTO:leavenworthgc@yahoo.com
GEO:47.582625;-120.6729907
X-APPLE-STRUCTURED-LOCATION;VALUE=URI;X-ADDRESS=Leavenworth Golf Club 9101 Icicle Rd Leavenworth WA 98826 United States;X-APPLE-RADIUS=500;X-TITLE=9101 Icicle Rd:geo:-120.6729907,47.582625
END:VEVENT
BEGIN:VEVENT
DTSTART;TZID=America/Los_Angeles:20260517T090000
DTEND;TZID=America/Los_Angeles:20260517T180000
DTSTAMP:20260423T004758
CREATED:20260417T230449Z
LAST-MODIFIED:20260417T230449Z
UID:10027994-1779008400-1779040800@leavenworth.org
SUMMARY:2026 Bavarian Open
DESCRIPTION:Open to all two-person teams: \n9AM shotgun start both days. \nTwo days of Net Best Ball\, $100\,000 Hole in One Contest – 10 players will earn a shot at the big prize\, $2\,500 Putting Contest. \nContinental breakfast both mornings and a hosted BBQ lunch with the awards ceremony on Sunday.
URL:https://leavenworth.org/event/2026-bavarian-open/2026-05-17/
LOCATION:Leavenworth Golf Club\, 9101 Icicle Rd\, Leavenworth\, WA\, 98826\, United States
CATEGORIES:Other,Outdoors
ATTACH;FMTTYPE=image/jpeg:https://leavenworth.org/wp-content/uploads/2021/06/golf-overview-e1776467028871.jpg
ORGANIZER;CN="Leavenworth Golf Course":MAILTO:leavenworthgc@yahoo.com
GEO:47.582625;-120.6729907
X-APPLE-STRUCTURED-LOCATION;VALUE=URI;X-ADDRESS=Leavenworth Golf Club 9101 Icicle Rd Leavenworth WA 98826 United States;X-APPLE-RADIUS=500;X-TITLE=9101 Icicle Rd:geo:-120.6729907,47.582625
END:VEVENT
END:VCALENDAR