BEGIN:VCALENDAR
VERSION:2.0
PRODID:-//Leavenworth Washington - ECPv6.15.17//NONSGML v1.0//EN
CALSCALE:GREGORIAN
METHOD:PUBLISH
X-WR-CALNAME:Leavenworth Washington
X-ORIGINAL-URL:https://leavenworth.org
X-WR-CALDESC:Events for Leavenworth Washington
REFRESH-INTERVAL;VALUE=DURATION:PT1H
X-Robots-Tag:noindex
X-PUBLISHED-TTL:PT1H
BEGIN:VTIMEZONE
TZID:America/Los_Angeles
BEGIN:DAYLIGHT
TZOFFSETFROM:-0800
TZOFFSETTO:-0700
TZNAME:PDT
DTSTART:20240310T100000
END:DAYLIGHT
BEGIN:STANDARD
TZOFFSETFROM:-0700
TZOFFSETTO:-0800
TZNAME:PST
DTSTART:20241103T090000
END:STANDARD
BEGIN:DAYLIGHT
TZOFFSETFROM:-0800
TZOFFSETTO:-0700
TZNAME:PDT
DTSTART:20250309T100000
END:DAYLIGHT
BEGIN:STANDARD
TZOFFSETFROM:-0700
TZOFFSETTO:-0800
TZNAME:PST
DTSTART:20251102T090000
END:STANDARD
BEGIN:DAYLIGHT
TZOFFSETFROM:-0800
TZOFFSETTO:-0700
TZNAME:PDT
DTSTART:20260308T100000
END:DAYLIGHT
BEGIN:STANDARD
TZOFFSETFROM:-0700
TZOFFSETTO:-0800
TZNAME:PST
DTSTART:20261101T090000
END:STANDARD
BEGIN:DAYLIGHT
TZOFFSETFROM:-0800
TZOFFSETTO:-0700
TZNAME:PDT
DTSTART:20270314T100000
END:DAYLIGHT
BEGIN:STANDARD
TZOFFSETFROM:-0700
TZOFFSETTO:-0800
TZNAME:PST
DTSTART:20271107T090000
END:STANDARD
END:VTIMEZONE
BEGIN:VEVENT
DTSTART;TZID=America/Los_Angeles:20260104T100000
DTEND;TZID=America/Los_Angeles:20260104T170000
DTSTAMP:20260419T155928
CREATED:20251229T220504Z
LAST-MODIFIED:20251229T220850Z
UID:10024490-1767520800-1767546000@leavenworth.org
SUMMARY:Ecstatic Dance - January
DESCRIPTION:We begin with an opening circle to co-create a safe container for everyone to move freely. The dance takes participants on a journey with music carefully curated to guide expression\, and we end with a closing circle to share and connect if desired. Free-form dance invites your body\, emotion\, and expression to move freely. Play\, explore\, and connect. Come as you are — dance like no one is watching! It’s not about how you look\, but how you feel. \nThis is a substance-free event designed to support inner joy\, liberation\, expression\, and connection. No experience is necessary.
URL:https://leavenworth.org/event/ecstatic-dance-january/
LOCATION:Canyon Wren Recital Hall\, 7409 Icicle Road\, Leavenworth\, WA\, 98826\, United States
CATEGORIES:Workshops and Classes,Music & Entertainment
ATTACH;FMTTYPE=image/jpeg:https://leavenworth.org/wp-content/uploads/2023/10/snowy-owl-e1715036081717.jpg
ORGANIZER;CN="Icicle Creek Center for the Arts":MAILTO:info@icicle.org
END:VEVENT
BEGIN:VEVENT
DTSTART;TZID=America/Los_Angeles:20251220T183000
DTEND;TZID=America/Los_Angeles:20251220T223000
DTSTAMP:20260419T155928
CREATED:20251217T172440Z
LAST-MODIFIED:20251217T172440Z
UID:10022085-1766255400-1766269800@leavenworth.org
SUMMARY:Illuminate the Night
DESCRIPTION:Join us for the fourth annual Illuminate the Night\, an immersive solstice celebration featuring music\, movement\, and community connection. Enjoy music by Shine Song Collective & many others\, plus ecstatic dance by DJ Klarity.
URL:https://leavenworth.org/event/illuminate-the-night/
LOCATION:Canyon Wren Recital Hall\, 7409 Icicle Road\, Leavenworth\, WA\, 98826\, United States
CATEGORIES:Music & Entertainment
ATTACH;FMTTYPE=image/jpeg:https://leavenworth.org/wp-content/uploads/2025/09/canyon-wren-empty-icca.jpg
ORGANIZER;CN="Icicle Creek Center for the Arts":MAILTO:info@icicle.org
END:VEVENT
BEGIN:VEVENT
DTSTART;TZID=America/Los_Angeles:20251114T190000
DTEND;TZID=America/Los_Angeles:20251114T210000
DTSTAMP:20260419T155928
CREATED:20251103T185429Z
LAST-MODIFIED:20251103T193130Z
UID:10021381-1763146800-1763154000@leavenworth.org
SUMMARY:Kairos and Nik Caoile @ Icicle Creek Center for the Arts
DESCRIPTION:Join us for a very special evening where music transcends time\, inviting you into a world where artistry\, emotion\, and passion for education converge.
URL:https://leavenworth.org/event/kairos-and-nik-caoile-icicle-creek-center-for-the-arts/
LOCATION:Canyon Wren Recital Hall\, 7409 Icicle Road\, Leavenworth\, WA\, 98826\, United States
CATEGORIES:Arts,Music & Entertainment
ATTACH;FMTTYPE=image/jpeg:https://leavenworth.org/wp-content/uploads/2023/10/snowy-owl-e1715036081717.jpg
ORGANIZER;CN="Icicle Creek Center for the Arts":MAILTO:info@icicle.org
END:VEVENT
BEGIN:VEVENT
DTSTART;TZID=America/Los_Angeles:20251109T100000
DTEND;TZID=America/Los_Angeles:20251109T130000
DTSTAMP:20260419T155928
CREATED:20251103T005352Z
LAST-MODIFIED:20251108T011841Z
UID:10021108-1762682400-1762693200@leavenworth.org
SUMMARY:Ecstatic Dance & Contact Jam @ Icicle Creek Center for the Arts
DESCRIPTION:We invite you to connect with your body’s rhythms and embrace your true self. Dance is a powerful medicine that helps us release emotions\, explore boundaries\, and reconnect with our inner wisdom.
URL:https://leavenworth.org/event/ecstatic-dance-contact-jam-icicle-creek-center-for-the-arts/
LOCATION:Canyon Wren Recital Hall\, 7409 Icicle Road\, Leavenworth\, WA\, 98826\, United States
CATEGORIES:Music & Entertainment
ATTACH;FMTTYPE=image/jpeg:https://leavenworth.org/wp-content/uploads/2025/09/canyon-wren-empty-icca.jpg
ORGANIZER;CN="Icicle Creek Center for the Arts":MAILTO:info@icicle.org
END:VEVENT
BEGIN:VEVENT
DTSTART;TZID=America/Los_Angeles:20250803T140000
DTEND;TZID=America/Los_Angeles:20250803T163000
DTSTAMP:20260419T155928
CREATED:20250626T231835Z
LAST-MODIFIED:20250626T231835Z
UID:10018405-1754229600-1754238600@leavenworth.org
SUMMARY:Kairos w/ Stephen Beus @ Icicle Creek Center for the Arts
DESCRIPTION:Originally formed as a string quartet\, Kairos has evolved to highlight the rich repertoire of piano trios and piano with strings\, collaborating with world-renowned pianist Stephen Beus.
URL:https://leavenworth.org/event/kairos-w-stephen-beus-icicle-creek-center-for-the-arts/
LOCATION:Canyon Wren Recital Hall\, 7409 Icicle Road\, Leavenworth\, WA\, 98826\, United States
CATEGORIES:Music & Entertainment
ATTACH;FMTTYPE=image/jpeg:https://leavenworth.org/wp-content/uploads/2023/10/snowy-owl-e1715036081717.jpg
ORGANIZER;CN="Icicle Creek Center for the Arts":MAILTO:info@icicle.org
END:VEVENT
BEGIN:VEVENT
DTSTART;TZID=America/Los_Angeles:20250802T190000
DTEND;TZID=America/Los_Angeles:20250802T210000
DTSTAMP:20260419T155928
CREATED:20250626T225929Z
LAST-MODIFIED:20250626T225929Z
UID:10018404-1754161200-1754168400@leavenworth.org
SUMMARY:Third Seven @ Icicle Creek Center for the Arts
DESCRIPTION:Step into a world where one cello becomes an entire symphony\, where voice\, strings\, and rhythm converge into something raw\, immersive\, and deeply human.
URL:https://leavenworth.org/event/third-seven-icicle-creek-center-for-the-arts/
LOCATION:Canyon Wren Recital Hall\, 7409 Icicle Road\, Leavenworth\, WA\, 98826\, United States
CATEGORIES:Music & Entertainment
ATTACH;FMTTYPE=image/jpeg:https://leavenworth.org/wp-content/uploads/2023/10/snowy-owl-e1715036081717.jpg
ORGANIZER;CN="Icicle Creek Center for the Arts":MAILTO:info@icicle.org
END:VEVENT
BEGIN:VEVENT
DTSTART;TZID=America/Los_Angeles:20250713T140000
DTEND;TZID=America/Los_Angeles:20250713T163000
DTSTAMP:20260419T155928
CREATED:20250626T221053Z
LAST-MODIFIED:20250626T221053Z
UID:10018403-1752415200-1752424200@leavenworth.org
SUMMARY:The Dali Quartet @ Icicle Creek Center for the Arts
DESCRIPTION:Renowned for their passionate artistry and genre-defying performances\, the Dali Quartet will join ICCA as special guest performers\, offering a sonic experience that transcends the boundaries of style\, culture\, and tradition.
URL:https://leavenworth.org/event/the-dali-quartet-icicle-creek-center-for-the-arts/
LOCATION:Canyon Wren Recital Hall\, 7409 Icicle Road\, Leavenworth\, WA\, 98826\, United States
CATEGORIES:Music & Entertainment
ATTACH;FMTTYPE=image/jpeg:https://leavenworth.org/wp-content/uploads/2023/10/snowy-owl-e1715036081717.jpg
ORGANIZER;CN="Icicle Creek Center for the Arts":MAILTO:info@icicle.org
END:VEVENT
BEGIN:VEVENT
DTSTART;TZID=America/Los_Angeles:20250712T190000
DTEND;TZID=America/Los_Angeles:20250712T210000
DTSTAMP:20260419T155928
CREATED:20250626T222426Z
LAST-MODIFIED:20250626T222426Z
UID:10018402-1752346800-1752354000@leavenworth.org
SUMMARY:Quartetrachord @ Icicle Creek Center for the Arts
DESCRIPTION:Quartetrachord is a dynamic string quartet blending classical artistry with a passion for storytelling through music.
URL:https://leavenworth.org/event/quartetrachord-icicle-creek-center-for-the-arts/
LOCATION:Canyon Wren Recital Hall\, 7409 Icicle Road\, Leavenworth\, WA\, 98826\, United States
CATEGORIES:Music & Entertainment
ATTACH;FMTTYPE=image/jpeg:https://leavenworth.org/wp-content/uploads/2023/10/snowy-owl-e1715036081717.jpg
ORGANIZER;CN="Icicle Creek Center for the Arts":MAILTO:info@icicle.org
END:VEVENT
BEGIN:VEVENT
DTSTART;TZID=America/Los_Angeles:20250628T190000
DTEND;TZID=America/Los_Angeles:20250628T210000
DTSTAMP:20260419T155928
CREATED:20250626T215222Z
LAST-MODIFIED:20250626T215222Z
UID:10018401-1751137200-1751144400@leavenworth.org
SUMMARY:Beo String Quartet @ Icicle Creek Center for the Arts
DESCRIPTION:Join Beo String Quartet as they traverse the emotional spectrum\, from delicate\, intimate melodies to powerful\, heart-stirring crescendos.
URL:https://leavenworth.org/event/beo-string-quartet-icicle-creek-center-for-the-arts/
LOCATION:Canyon Wren Recital Hall\, 7409 Icicle Road\, Leavenworth\, WA\, 98826\, United States
CATEGORIES:Music & Entertainment
ATTACH;FMTTYPE=image/jpeg:https://leavenworth.org/wp-content/uploads/2023/10/snowy-owl-e1715036081717.jpg
ORGANIZER;CN="Icicle Creek Center for the Arts":MAILTO:info@icicle.org
END:VEVENT
END:VCALENDAR